View In:
ArcGIS JavaScript
ArcGIS Online Map Viewer
ArcGIS Earth
ArcGIS Pro
Service Description: Origineel ingescande Atlas der Buurtwegen in de provincie Limburg Plan Général..
De Wet op de Buurtwegen van 10 april 1841 verplichtte elke toenmalige gemeenten om een Atlas van de Buurtwegen op te stellen. In de provincie Limburg werden 197 atlassen opgemaakt. De atlassen bestaan uit twee luiken, enerzijds de kaarten van de buurtwegen en anderzijds de tabellen met de beschrijving van deze wegen en de eigenaars van de aangrenzende percelen.
Het gedeelte met de kaarten bestaat uit twee delen:
een algemeen plan, getekend op schaal 1:10.000, dat een overzicht geeft van de hele gemeente
detailplannen, getekend op schaal 1:2.500 of soms op schaal 1:5.000, die de ligging van de buurtwegen weergeven tussen de kadastrale percelen.
De kaarten werden ingescand in hun oorspronkelijke toestand, d.w.z. dat de wijzigingen (afschaffing, verlegging, verbreding, versmalling, … ) niet zijn aangebracht. De kaarten werden ingescand aan 200dpi, als .tif-bestand, waarbij de kleurechtheid zo veel mogelijk bewaard werd. Vervolgens werden de plannen bij benadering gegeorefereerd ten opzichte van het Lambert 72-coördinatenstelsel. Vervolgens werden deze bestanden omgezet naar een gebiedsdekkend geheel (mozaiek) voor Limburg. Bij het combineren met andere kaartlagen in een GIS-systeem kunnen hierbij afwijkingen ontstaan. Enige voorzichtigheid is geboden om hieruit conclusies te trekken.
In het geval van een juridische betwisting moet de originele Atlas van de Buurtwegen in de betrokken gemeente geraadpleegd worden. Enkel voor eensluidend verklaarde afschriften hebben juridische waarde. Deze kunnen aangevraagd worden bij de gemeente. Informatie met betrekking tot wijzigingen aan de originele Atlas van de Buurtwegen kan bekomen worden bij de betrokken gemeente of bij de Provincie Limburg.
Map Name: Layers
Legend
All Layers and Tables
Layers:
Description:
Service Item Id: 6c6f0db9ff324648bec7a6c5a7440fb5
Copyright Text:
Spatial Reference:
102100
(3857)
LatestVCSWkid(0)
Single Fused Map Cache: true
Tile Info:
- Height: 256.0
- Width: 256.0
- DPI: 96.0
-
Levels of Detail: 20
-
Level ID: 0
[ Start Tile, End Tile ]
- Resolution: 156543.03392800014
- Scale: 5.91657527591555E8
-
Level ID: 1
[ Start Tile, End Tile ]
- Resolution: 78271.51696399994
- Scale: 2.95828763795777E8
-
Level ID: 2
[ Start Tile, End Tile ]
- Resolution: 39135.75848200009
- Scale: 1.47914381897889E8
-
Level ID: 3
[ Start Tile, End Tile ]
- Resolution: 19567.87924099992
- Scale: 7.3957190948944E7
-
Level ID: 4
[ Start Tile, End Tile ]
- Resolution: 9783.93962049996
- Scale: 3.6978595474472E7
-
Level ID: 5
[ Start Tile, End Tile ]
- Resolution: 4891.96981024998
- Scale: 1.8489297737236E7
- Format: PNG8
- Compression Quality: 0.0
- Origin: X: -2.0037508342787E7
Y: 2.0037508342787E7
- Spatial Reference: 102100
(3857)
LatestVCSWkid(0)
Storage Info:
- Storage Format: esriMapCacheStorageModeCompact
- Packet Size: 128
Initial Extent:
XMin: 493879.61734417215
YMin: 6588477.447414597
XMax: 718924.2157430537
YMax: 6728049.563874935
Spatial Reference: 102100
(3857)
LatestVCSWkid(0)
Full Extent:
XMin: 468311.9818509951
YMin: 6547840.963949596
XMax: 744491.8512362307
YMax: 6693588.837775435
Spatial Reference: 102100
(3857)
LatestVCSWkid(0)
Units: esriMeters
Supported Image Format Types: PNG32,PNG24,PNG,JPG,DIB,TIFF,EMF,PS,PDF,GIF,SVG,SVGZ,BMP
Document Info:
Title:
Author:
Comments: Origineel ingescande Atlas der Buurtwegen in de provincie Limburg Plan Detail. Deze service bestaat uit tiles op schaal 1:32000, 1:16000, 1:8000, 1:4000 en 1:2000.
De Wet op de Buurtwegen van 10 april 1841 verplichtte elke toenmalige gemeenten om een Atlas van de Buurtwegen op te stellen. In de provincie Limburg werden 197 atlassen opgemaakt. De atlassen bestaan uit twee luiken, enerzijds de kaarten van de buurtwegen en anderzijds de tabellen met de beschrijving van deze wegen en de eigenaars van de aangrenzende percelen.
Het gedeelte met de kaarten bestaat uit twee delen:
een algemeen plan, getekend op schaal 1:10.000, dat een overzicht geeft van de hele gemeente
detailplannen, getekend op schaal 1:2.500 of soms op schaal 1:5.000, die de ligging van de buurtwegen weergeven tussen de kadastrale percelen.
De kaarten werden ingescand in hun oorspronkelijke toestand, d.w.z. dat de wijzigingen (afschaffing, verlegging, verbreding, versmalling, … ) niet zijn aangebracht. De kaarten werden ingescand aan 200dpi, als .tif-bestand, waarbij de kleurechtheid zo veel mogelijk bewaard werd. Vervolgens werden de plannen bij benadering gegeorefereerd ten opzichte van het Lambert 72-coördinatenstelsel. Vervolgens werden deze bestanden omgezet naar een gebiedsdekkend geheel (mozaiek) voor Limburg. Bij het combineren met andere kaartlagen in een GIS-systeem kunnen hierbij afwijkingen ontstaan. Enige voorzichtigheid is geboden om hieruit conclusies te trekken.
In het geval van een juridische betwisting moet de originele Atlas van de Buurtwegen in de betrokken gemeente geraadpleegd worden. Enkel voor eensluidend verklaarde afschriften hebben juridische waarde. Deze kunnen aangevraagd worden bij de gemeente. Informatie met betrekking tot wijzigingen aan de originele Atlas van de Buurtwegen kan bekomen worden bij de betrokken gemeente of bij de Provincie Limburg.
Subject: Plan Détail - Atlas der Buurtwegen provincie Limburg
Category:
Keywords: Atlas der Buurtwegen,Plan Détail,detailplannen
AntialiasingMode: None
TextAntialiasingMode: Force
Supports Dynamic Layers: false
MaxRecordCount: 1000
MaxSelectionCount: 2000
MaxImageHeight: 4096
MaxImageWidth: 4096
Supported Query Formats: JSON, geoJSON, PBF
Supports Query Data Elements: true
Min Scale: 36111.909643
Max Scale: 4513.988705
Supports Datum Transformation: true
Child Resources:
Info
Supported Operations:
Export Map
Identify
QueryLegends
QueryDomains
Find
Return Updates